BEGIN:VCALENDAR
VERSION:2.0
CALSCALE:GREGORIAN
PRODID:-//MyApp//Calendar 1.0//EN
BEGIN:VEVENT
METHOD:PUBLISH
UID:32154@regionalniportaly.cz
DTSTAMP:20260421T192223Z
DTSTART;VALUE=DATE:20230425
DTEND;VALUE=DATE:20230426
SUMMARY:Jana Vébrová
DESCRIPTION:Brněnský křest druhého alba "Kameny ze dna" svérázné písničkářky Jany Vébrové\, tentokráte v doprovodu špičkových jazzových a cross-over muzikantů (Aslamas\, Dvořáček\, Jirucha\, Tichý).Jana Vébrová je písničkářka z Lužických hor. Právě ona "vykořeněnost" tamějšího kraje a nula procent folklóru ji donutilo najít si svůj vlastní\, na české scéně neslýchaný způsob pěveckého projevu\, nikde neškolené hry na akordeon a skladebnosti jejích písní.&nbsp\;
LOCATION:Brno
END:VEVENT
END:VCALENDAR