BEGIN:VCALENDAR
VERSION:2.0
CALSCALE:GREGORIAN
PRODID:-//MyApp//Calendar 1.0//EN
BEGIN:VEVENT
METHOD:PUBLISH
UID:32135@regionalniportaly.cz
DTSTAMP:20260421T192446Z
DTSTART;VALUE=DATE:20230427
DTEND;VALUE=DATE:20230428
SUMMARY:Gaia Mesiah / Nové album / Tour 2023
DESCRIPTION:Divoká rocková partička Gaia Mesiah vydá v březnu příštího roku nové album VLN∞BYTÍ\, které podpoří jarním turné\, jehož součástí bude i křest na brněnské Flédě. Svým fanouškům navíc&nbsp\;nabízí&nbsp\;vánoční předprodejní balíček\, jehož součástí bude limitovaná edice novinkového alba se speciálními bonusy a kniha mapující dvacetiletou dráhu této nekonformní a ze tří čtvrtin&nbsp\;dámské kapely.
LOCATION:Brno
END:VEVENT
END:VCALENDAR