BEGIN:VCALENDAR
VERSION:2.0
CALSCALE:GREGORIAN
PRODID:-//MyApp//Calendar 1.0//EN
BEGIN:VEVENT
METHOD:PUBLISH
UID:32077@regionalniportaly.cz
DTSTAMP:20260421T140334Z
DTSTART;VALUE=DATE:20230421
DTEND;VALUE=DATE:20230422
SUMMARY:Prago Union & Mucha
DESCRIPTION:Prago Union &amp\; Nikola Mucha &amp\; Řáhol One&nbsp\;20.30 Nikola Mucha22.00 Prago Union&nbsp\;23.30 Řáhol One - Křest EP
LOCATION:Rosice
END:VEVENT
END:VCALENDAR