BEGIN:VCALENDAR
VERSION:2.0
CALSCALE:GREGORIAN
PRODID:-//MyApp//Calendar 1.0//EN
BEGIN:VEVENT
METHOD:PUBLISH
UID:32062@regionalniportaly.cz
DTSTAMP:20260421T173438Z
DTSTART;VALUE=DATE:20230613
DTEND;VALUE=DATE:20230614
SUMMARY:Partička na vzduchu
DESCRIPTION:PARTIČKA NA VZDUCHU - úterý 13. června 2023 v 19 hodin v Letním kině v Ivanovicích na Hané.\nÚterý 13. června 2023 v 19 hodin v Letním kině v Ivanovicích na Hané. Předprodej vstupenek v Městské knihovně nebo na TicketstreamuSkvělá improvizační show tak jak ji všichni známe. Michal Suchánek\, Richard Genzer\, Michal Novotný\, Jakub Kohák\, hudebník Marián Čurko a moderátor Luděk Staněk vás vždy všechny rozesmějí. 
LOCATION:Ivanovice na Hané
END:VEVENT
END:VCALENDAR